BEGIN:VCALENDAR
VERSION:2.0
PRODID:-//Parish Council of Gilling East with Cawton, Coulton &amp; Grimston//Meeting Calendar//EN
CALSCALE:GREGORIAN
METHOD:PUBLISH
BEGIN:VEVENT
UID:70549-20260318@gillingeast-pc.gov.uk
DTSTAMP:20260424T100923Z
DTSTART;VALUE=DATE:20260318
DTEND;VALUE=DATE:20260319
SUMMARY:Full Council Meeting &#8211\\; 18 March 2026
DESCRIPTION:Full Council Meeting\nView details: https://gillingeast-pc.gov.uk/meetings/full-council-meeting-18-march-2026/
URL:https://gillingeast-pc.gov.uk/meetings/full-council-meeting-18-march-2026/
END:VEVENT
END:VCALENDAR
