BEGIN:VCALENDAR
VERSION:2.0
PRODID:-//Parish Council of Gilling East with Cawton, Coulton &amp; Grimston//Meeting Calendar//EN
CALSCALE:GREGORIAN
METHOD:PUBLISH
BEGIN:VEVENT
UID:70499-20220518@gillingeast-pc.gov.uk
DTSTAMP:20260424T112636Z
DTSTART;VALUE=DATE:20220518
DTEND;VALUE=DATE:20220519
SUMMARY:Annual Parish Meeting &#8211\\; 18 May 2022
DESCRIPTION:Annual Parish Meeting\nView details: https://gillingeast-pc.gov.uk/meetings/annual-parish-meeting-18-may-2022/
URL:https://gillingeast-pc.gov.uk/meetings/annual-parish-meeting-18-may-2022/
END:VEVENT
END:VCALENDAR
