BEGIN:VCALENDAR
VERSION:2.0
PRODID:-//Parish Council of Gilling East with Cawton, Coulton &amp; Grimston//Meeting Calendar//EN
CALSCALE:GREGORIAN
METHOD:PUBLISH
BEGIN:VEVENT
UID:70484-20230101@gillingeast-pc.gov.uk
DTSTAMP:20260424T112404Z
DTSTART;VALUE=DATE:20230101
DTEND;VALUE=DATE:20230102
SUMMARY:Planning Committee Meetings &#8211\\; 2023
DESCRIPTION:Planning Committee Meeting\nView details: https://gillingeast-pc.gov.uk/meetings/planning-committee-meetings-2023/
URL:https://gillingeast-pc.gov.uk/meetings/planning-committee-meetings-2023/
END:VEVENT
END:VCALENDAR
