BEGIN:VCALENDAR
VERSION:2.0
PRODID:-//Parish Council of Gilling East with Cawton, Coulton &amp; Grimston//Meeting Calendar//EN
CALSCALE:GREGORIAN
METHOD:PUBLISH
BEGIN:VEVENT
UID:70468-20240101@gillingeast-pc.gov.uk
DTSTAMP:20260424T112534Z
DTSTART;VALUE=DATE:20240101
DTEND;VALUE=DATE:20240102
SUMMARY:Planning Committee Meetings &#8211\\; 2024
DESCRIPTION:Planning Committee Meeting\nView details: https://gillingeast-pc.gov.uk/meetings/planning-committee-meetings-2024/
URL:https://gillingeast-pc.gov.uk/meetings/planning-committee-meetings-2024/
END:VEVENT
END:VCALENDAR
