BEGIN:VCALENDAR
VERSION:2.0
PRODID:-//Parish Council of Gilling East with Cawton, Coulton &amp; Grimston//Meeting Calendar//EN
CALSCALE:GREGORIAN
METHOD:PUBLISH
BEGIN:VEVENT
UID:70462-20240101@gillingeast-pc.gov.uk
DTSTAMP:20260424T095228Z
DTSTART;VALUE=DATE:20240101
DTEND;VALUE=DATE:20240102
SUMMARY:Full Council Meetings &#8211\\; 2024
DESCRIPTION:Full Council Meeting\nView details: https://gillingeast-pc.gov.uk/meetings/full-council-meetings-2024/
URL:https://gillingeast-pc.gov.uk/meetings/full-council-meetings-2024/
END:VEVENT
END:VCALENDAR
