BEGIN:VCALENDAR
VERSION:2.0
PRODID:-//Parish Council of Gilling East with Cawton, Coulton &amp; Grimston//Meeting Calendar//EN
CALSCALE:GREGORIAN
METHOD:PUBLISH
BEGIN:VEVENT
UID:70460-20250115@gillingeast-pc.gov.uk
DTSTAMP:20260424T101832Z
DTSTART;VALUE=DATE:20250115
DTEND;VALUE=DATE:20250116
SUMMARY:Full Council Meeting &#8211\\; 15 January 2025
DESCRIPTION:Full Council Meeting\nView details: https://gillingeast-pc.gov.uk/meetings/full-council-meeting-15-january-2025/
URL:https://gillingeast-pc.gov.uk/meetings/full-council-meeting-15-january-2025/
END:VEVENT
END:VCALENDAR
